BEGIN:VCALENDAR
VERSION:2.0
PRODID:icalendar-ruby
CALSCALE:GREGORIAN
METHOD:PUBLISH
BEGIN:VEVENT
DTSTAMP:20260423T133619Z
UID:143-105578@reidland.org
DTSTART:20260425T220000Z
DTEND:20260426T010000Z
CLASS:PUBLIC
CREATED:20260418T161508
DESCRIPTION:Get ready to step into the wild for an unforgettable Guys Night
  inspired by the adventure and grit of Bear Grylls! We’re talking fire\,
  challenges\, competition\, and pushing yourself outside your comfort zone
 .\nJoin us for a night packed with outdoor games\, survival-style challeng
 es\, great food\, and a chance to hang with the guys around the bonfire. W
 e’ll test your skills\, build some brotherhood\, and talk about what it 
 really means to be strong—not just physically\, but in your faith.\nCome
  dressed for the outdoors and ready for anything. Bring a friend\, your co
 mpetitive side\, and maybe a little courage… you might need it.
LAST-MODIFIED:20260418T161508
LOCATION:Fellowship Hall
SUMMARY:Youth Guys Night
URL;VALUE=URI:https://www.reidland.org/events/youth-guys-night/2026-04-25
ATTACH;FILENAME=bonfire.jpeg;FMTTYPE=image/jpeg:https://dq5pwpg1q8ru0.cloud
 front.net/2026/04/18/21/04/13/69236337-d0a7-47ba-9dfb-ed3ead900d3c/bonfire
 .jpeg
END:VEVENT
END:VCALENDAR
